BEGIN:VCALENDAR
VERSION:2.0
PRODID:-//Redland Bushwalkers - ECPv6.15.13//NONSGML v1.0//EN
CALSCALE:GREGORIAN
METHOD:PUBLISH
X-WR-CALNAME:Redland Bushwalkers
X-ORIGINAL-URL:https://redlandbushwalkers.org.au
X-WR-CALDESC:Events for Redland Bushwalkers
REFRESH-INTERVAL;VALUE=DURATION:PT1H
X-Robots-Tag:noindex
X-PUBLISHED-TTL:PT1H
BEGIN:VTIMEZONE
TZID:Australia/Melbourne
BEGIN:STANDARD
TZOFFSETFROM:+1100
TZOFFSETTO:+1000
TZNAME:AEST
DTSTART:20200404T160000
END:STANDARD
BEGIN:DAYLIGHT
TZOFFSETFROM:+1000
TZOFFSETTO:+1100
TZNAME:AEDT
DTSTART:20201003T160000
END:DAYLIGHT
BEGIN:STANDARD
TZOFFSETFROM:+1100
TZOFFSETTO:+1000
TZNAME:AEST
DTSTART:20210403T160000
END:STANDARD
BEGIN:DAYLIGHT
TZOFFSETFROM:+1000
TZOFFSETTO:+1100
TZNAME:AEDT
DTSTART:20211002T160000
END:DAYLIGHT
BEGIN:STANDARD
TZOFFSETFROM:+1100
TZOFFSETTO:+1000
TZNAME:AEST
DTSTART:20220402T160000
END:STANDARD
BEGIN:DAYLIGHT
TZOFFSETFROM:+1000
TZOFFSETTO:+1100
TZNAME:AEDT
DTSTART:20221001T160000
END:DAYLIGHT
END:VTIMEZONE
BEGIN:VEVENT
DTSTART;TZID=Australia/Melbourne:20211106T080000
DTEND;TZID=Australia/Melbourne:20211106T120000
DTSTAMP:20260425T133224
CREATED:20211027T013928Z
LAST-MODIFIED:20211027T013928Z
UID:2967-1636185600-1636200000@redlandbushwalkers.org.au
SUMMARY:Kayak paddle Coochiemudlo
DESCRIPTION:A leisurley paddle around the Island to make the most of the morning high tide at 10:40 (2.56). Bring morning tea and swimmers. Meet at 7:30 for a 8:00 am launch. If conditions aren’t favourable\, eg windy or rainy this event will be postponed until Saturday 20th\, when there is the next favourable morning high tide.Note:- Nominations can only be made via the Meetup App. Upon nomination every one will be waitlisted and once approved by the leader will be given a status of accepted.
URL:https://redlandbushwalkers.org.au/event/kayak-paddle-coochiemudlo/
LOCATION:38 Orana Esplanade\, 38 Orana Esplanade\, Victoria Point\, AU
END:VEVENT
END:VCALENDAR