BEGIN:VCALENDAR
VERSION:2.0
PRODID:-//Redland Bushwalkers - ECPv6.15.13//NONSGML v1.0//EN
CALSCALE:GREGORIAN
METHOD:PUBLISH
X-WR-CALNAME:Redland Bushwalkers
X-ORIGINAL-URL:https://redlandbushwalkers.org.au
X-WR-CALDESC:Events for Redland Bushwalkers
REFRESH-INTERVAL;VALUE=DURATION:PT1H
X-Robots-Tag:noindex
X-PUBLISHED-TTL:PT1H
BEGIN:VTIMEZONE
TZID:Australia/Melbourne
BEGIN:STANDARD
TZOFFSETFROM:+1100
TZOFFSETTO:+1000
TZNAME:AEST
DTSTART:20210403T160000
END:STANDARD
BEGIN:DAYLIGHT
TZOFFSETFROM:+1000
TZOFFSETTO:+1100
TZNAME:AEDT
DTSTART:20211002T160000
END:DAYLIGHT
BEGIN:STANDARD
TZOFFSETFROM:+1100
TZOFFSETTO:+1000
TZNAME:AEST
DTSTART:20220402T160000
END:STANDARD
BEGIN:DAYLIGHT
TZOFFSETFROM:+1000
TZOFFSETTO:+1100
TZNAME:AEDT
DTSTART:20221001T160000
END:DAYLIGHT
BEGIN:STANDARD
TZOFFSETFROM:+1100
TZOFFSETTO:+1000
TZNAME:AEST
DTSTART:20230401T160000
END:STANDARD
BEGIN:DAYLIGHT
TZOFFSETFROM:+1000
TZOFFSETTO:+1100
TZNAME:AEDT
DTSTART:20230930T160000
END:DAYLIGHT
END:VTIMEZONE
BEGIN:VEVENT
DTSTART;TZID=Australia/Melbourne:20220206T064500
DTEND;TZID=Australia/Melbourne:20220206T180000
DTSTAMP:20260423T110252
CREATED:20220121T004427Z
LAST-MODIFIED:20220131T234452Z
UID:7590-1644129900-1644170400@redlandbushwalkers.org.au
SUMMARY:Kinnanes abseil
DESCRIPTION:Kinnanes abseil 6. February.Kinnanes falls is open and exposed. There are 3 abseils\, one short one and two about 50meter drops. The walk in is pretty steep but short. Walk out is a short walk along the creek.The views as we descend are breathtaking.Waterproofing the packs is essential. Bring your own abseil gear or let us know if you need club equipment.Bring a wetsuit and warm clothes\, peaked cap to wear under the helmet\, water\, morning tea and lunch. Some abseil experience necessary.Meet at Boonah toilet block 6:45am.
URL:https://redlandbushwalkers.org.au/event/kinnanes-abseil/
END:VEVENT
END:VCALENDAR