BEGIN:VCALENDAR
VERSION:2.0
PRODID:-//Redland Bushwalkers - ECPv6.15.13//NONSGML v1.0//EN
CALSCALE:GREGORIAN
METHOD:PUBLISH
X-WR-CALNAME:Redland Bushwalkers
X-ORIGINAL-URL:https://redlandbushwalkers.org.au
X-WR-CALDESC:Events for Redland Bushwalkers
REFRESH-INTERVAL;VALUE=DURATION:PT1H
X-Robots-Tag:noindex
X-PUBLISHED-TTL:PT1H
BEGIN:VTIMEZONE
TZID:Australia/Melbourne
BEGIN:STANDARD
TZOFFSETFROM:+1100
TZOFFSETTO:+1000
TZNAME:AEST
DTSTART:20210403T160000
END:STANDARD
BEGIN:DAYLIGHT
TZOFFSETFROM:+1000
TZOFFSETTO:+1100
TZNAME:AEDT
DTSTART:20211002T160000
END:DAYLIGHT
BEGIN:STANDARD
TZOFFSETFROM:+1100
TZOFFSETTO:+1000
TZNAME:AEST
DTSTART:20220402T160000
END:STANDARD
BEGIN:DAYLIGHT
TZOFFSETFROM:+1000
TZOFFSETTO:+1100
TZNAME:AEDT
DTSTART:20221001T160000
END:DAYLIGHT
BEGIN:STANDARD
TZOFFSETFROM:+1100
TZOFFSETTO:+1000
TZNAME:AEST
DTSTART:20230401T160000
END:STANDARD
BEGIN:DAYLIGHT
TZOFFSETFROM:+1000
TZOFFSETTO:+1100
TZNAME:AEDT
DTSTART:20230930T160000
END:DAYLIGHT
END:VTIMEZONE
BEGIN:VEVENT
DTSTART;TZID=Australia/Melbourne:20220209T190000
DTEND;TZID=Australia/Melbourne:20220209T210000
DTSTAMP:20260423T103156
CREATED:20211210T013611Z
LAST-MODIFIED:20220131T234452Z
UID:5251-1644433200-1644440400@redlandbushwalkers.org.au
SUMMARY:Club Meeting\, 122 Shore St North Cleveland from 7pm
DESCRIPTION:Come along to our Club Meeting at Lions Club Hall\, 122 Shore St North Cleveland from 7pm. Meeting starts at 7.30pm.
URL:https://redlandbushwalkers.org.au/event/club-meeting-122-shore-st-north-cleveland-from-7pm-2/
LOCATION:Lions Club of Redland City inc.\, 122 Shore St N\, Cleveland\, AU
ATTACH;FMTTYPE=image/jpeg:https://redlandbushwalkers.org.au/wp-content/uploads/2021/08/1093_image_highres_498008258.jpeg
END:VEVENT
END:VCALENDAR