BEGIN:VCALENDAR
VERSION:2.0
PRODID:-//Redland Bushwalkers - ECPv6.15.13//NONSGML v1.0//EN
CALSCALE:GREGORIAN
METHOD:PUBLISH
X-WR-CALNAME:Redland Bushwalkers
X-ORIGINAL-URL:https://redlandbushwalkers.org.au
X-WR-CALDESC:Events for Redland Bushwalkers
REFRESH-INTERVAL;VALUE=DURATION:PT1H
X-Robots-Tag:noindex
X-PUBLISHED-TTL:PT1H
BEGIN:VTIMEZONE
TZID:Australia/Melbourne
BEGIN:STANDARD
TZOFFSETFROM:+1100
TZOFFSETTO:+1000
TZNAME:AEST
DTSTART:20210403T160000
END:STANDARD
BEGIN:DAYLIGHT
TZOFFSETFROM:+1000
TZOFFSETTO:+1100
TZNAME:AEDT
DTSTART:20211002T160000
END:DAYLIGHT
BEGIN:STANDARD
TZOFFSETFROM:+1100
TZOFFSETTO:+1000
TZNAME:AEST
DTSTART:20220402T160000
END:STANDARD
BEGIN:DAYLIGHT
TZOFFSETFROM:+1000
TZOFFSETTO:+1100
TZNAME:AEDT
DTSTART:20221001T160000
END:DAYLIGHT
BEGIN:STANDARD
TZOFFSETFROM:+1100
TZOFFSETTO:+1000
TZNAME:AEST
DTSTART:20230401T160000
END:STANDARD
BEGIN:DAYLIGHT
TZOFFSETFROM:+1000
TZOFFSETTO:+1100
TZNAME:AEDT
DTSTART:20230930T160000
END:DAYLIGHT
END:VTIMEZONE
BEGIN:VEVENT
DTSTART;TZID=Australia/Melbourne:20220211T153000
DTEND;TZID=Australia/Melbourne:20220211T173000
DTSTAMP:20260423T103044
CREATED:20220127T045208Z
LAST-MODIFIED:20220131T234452Z
UID:7900-1644593400-1644600600@redlandbushwalkers.org.au
SUMMARY:Brisbane Koala Bushland Loop
DESCRIPTION:Brisbane Koala Bushland Loop\, is a 6.6 Km lightly trafficked trail\, rated as moderate on the website\, with an elevation gain of 138m. We will start at the Alperton Road entry\, where the BBQ facilities are located.
URL:https://redlandbushwalkers.org.au/event/brisbane-koala-bushland-loop/
LOCATION:Brisbane Koala Bushlands\, 137 Alperton Rd\, Burbank\, AU
END:VEVENT
END:VCALENDAR