BEGIN:VCALENDAR
VERSION:2.0
PRODID:-//Redland Bushwalkers - ECPv6.15.13//NONSGML v1.0//EN
CALSCALE:GREGORIAN
METHOD:PUBLISH
X-ORIGINAL-URL:https://redlandbushwalkers.org.au
X-WR-CALDESC:Events for Redland Bushwalkers
REFRESH-INTERVAL;VALUE=DURATION:PT1H
X-Robots-Tag:noindex
X-PUBLISHED-TTL:PT1H
BEGIN:VTIMEZONE
TZID:Australia/Melbourne
BEGIN:STANDARD
TZOFFSETFROM:+1100
TZOFFSETTO:+1000
TZNAME:AEST
DTSTART:20210403T160000
END:STANDARD
BEGIN:DAYLIGHT
TZOFFSETFROM:+1000
TZOFFSETTO:+1100
TZNAME:AEDT
DTSTART:20211002T160000
END:DAYLIGHT
BEGIN:STANDARD
TZOFFSETFROM:+1100
TZOFFSETTO:+1000
TZNAME:AEST
DTSTART:20220402T160000
END:STANDARD
BEGIN:DAYLIGHT
TZOFFSETFROM:+1000
TZOFFSETTO:+1100
TZNAME:AEDT
DTSTART:20221001T160000
END:DAYLIGHT
BEGIN:STANDARD
TZOFFSETFROM:+1100
TZOFFSETTO:+1000
TZNAME:AEST
DTSTART:20230401T160000
END:STANDARD
BEGIN:DAYLIGHT
TZOFFSETFROM:+1000
TZOFFSETTO:+1100
TZNAME:AEDT
DTSTART:20230930T160000
END:DAYLIGHT
END:VTIMEZONE
BEGIN:VEVENT
DTSTART;TZID=Australia/Melbourne:20220213T080000
DTEND;TZID=Australia/Melbourne:20220213T153000
DTSTAMP:20260423T103328
CREATED:20211209T034755Z
LAST-MODIFIED:20220131T234452Z
UID:5172-1644739200-1644766200@redlandbushwalkers.org.au
SUMMARY:Albert River Circuit\, O’Reillys (LDW T3 F4)
DESCRIPTION:Meet at the main carpark at O’Reillys ready to start walking at 8am. \nAlbert River Circuit is one of Lamington National Park’s finest track walks\, 22km duration past numerous cascades and waterfalls. Walking in the cool rainforest. The extensive views from Echo Point can also be enjoyed on this walk. \nBring Morning tea and lunch\, and all the usual day walk gear. \nIf interested Text Amanda on 0401017941 or signup on Meetup.Co-leader: Michael Jones
URL:https://redlandbushwalkers.org.au/event/albert-river-circuit-oreillys-ldw-t3-f4/
LOCATION:Parking lot\, O'Reilly\, AU
ATTACH;FMTTYPE=image/jpeg:https://redlandbushwalkers.org.au/wp-content/uploads/2021/12/5163_image_highres_500719815.jpeg
END:VEVENT
END:VCALENDAR