BEGIN:VCALENDAR
VERSION:2.0
PRODID:-//Redland Bushwalkers - ECPv6.15.13//NONSGML v1.0//EN
CALSCALE:GREGORIAN
METHOD:PUBLISH
X-WR-CALNAME:Redland Bushwalkers
X-ORIGINAL-URL:https://redlandbushwalkers.org.au
X-WR-CALDESC:Events for Redland Bushwalkers
REFRESH-INTERVAL;VALUE=DURATION:PT1H
X-Robots-Tag:noindex
X-PUBLISHED-TTL:PT1H
BEGIN:VTIMEZONE
TZID:Australia/Melbourne
BEGIN:STANDARD
TZOFFSETFROM:+1100
TZOFFSETTO:+1000
TZNAME:AEST
DTSTART:20200404T160000
END:STANDARD
BEGIN:DAYLIGHT
TZOFFSETFROM:+1000
TZOFFSETTO:+1100
TZNAME:AEDT
DTSTART:20201003T160000
END:DAYLIGHT
BEGIN:STANDARD
TZOFFSETFROM:+1100
TZOFFSETTO:+1000
TZNAME:AEST
DTSTART:20210403T160000
END:STANDARD
BEGIN:DAYLIGHT
TZOFFSETFROM:+1000
TZOFFSETTO:+1100
TZNAME:AEDT
DTSTART:20211002T160000
END:DAYLIGHT
BEGIN:STANDARD
TZOFFSETFROM:+1100
TZOFFSETTO:+1000
TZNAME:AEST
DTSTART:20220402T160000
END:STANDARD
BEGIN:DAYLIGHT
TZOFFSETFROM:+1000
TZOFFSETTO:+1100
TZNAME:AEDT
DTSTART:20221001T160000
END:DAYLIGHT
END:VTIMEZONE
BEGIN:VEVENT
DTSTART;TZID=Australia/Melbourne:20211028T063000
DTEND;TZID=Australia/Melbourne:20211028T093000
DTSTAMP:20260423T145020
CREATED:20211027T013928Z
LAST-MODIFIED:20211027T013928Z
UID:2961-1635402600-1635413400@redlandbushwalkers.org.au
SUMMARY:Mount Cotton (SDW T3 F3)
DESCRIPTION:Want to improve your hill climbing fitness so you are ready to climb Mount Maroon\, Mount Greville and Flinders Peak when the cooler weather returns? Then come and join me on my regular walk up Mount Cotton\, the only significant high ground in the Redlands. The walk is 7.5 km and 400 m of vertical ascent\, and usually takes 2.5 hours including a well earned rest on top for breakfast/morning tea with a view (Glasshouse Mountains\, Moreton Island and Straddie on a clear day) \nStart time varies with the season\, currently it is a 6.30 am start at Gate 5 (aka the green box). The walk is on fire trails with one small section of track\, but its slippery on steep sections so walking poles are advised if you have them\, more care required if you don’t. \nDogs are allowed (I take mine) as long as it is kept on a lead and you bring bags to pick up after your dog. \nSign up via Meetup and check your Meetup messages before leaving home\, as I will cancel at short notice and rearrange for another day if rain is forecast. \nBring 2L of drinking water\, a sun hat\, sunscreen and breakfast/morning tea if you want when we reach the picnic table at the top.
URL:https://redlandbushwalkers.org.au/event/mount-cotton-sdw-t3-f3/
LOCATION:East Escarpment Conservation Area\, 634-640 W Mount Cotton Rd\, Sheldon\, AU
END:VEVENT
END:VCALENDAR